BEGIN:VCALENDAR
VERSION:2.0
PRODID:icalendar-ruby
CALSCALE:GREGORIAN
BEGIN:VEVENT
DTSTAMP:20210119T012308Z
UID:f6d4bbfd-73e0-42c1-84d4-76ff40428431
DTSTART;VALUE=DATE:20201213
DESCRIPTION:Property ID# 496871\, Time: 3:00PM
SUMMARY:Auction for 
END:VEVENT
END:VCALENDAR
