BEGIN:VCALENDAR
VERSION:2.0
PRODID:icalendar-ruby
CALSCALE:GREGORIAN
BEGIN:VEVENT
DTSTAMP:20210121T223433Z
UID:61596e97-62fe-4ca6-b2a0-f5c257030b1c
DTSTART;TZID=Pacific/Auckland:20210124T140000
DTEND;TZID=Pacific/Auckland:20210124T143000
DESCRIPTION:Property ID# 497059
SUMMARY:Openhome for 18 Cairnmuir Crescent
END:VEVENT
END:VCALENDAR
