BEGIN:VCALENDAR
VERSION:2.0
PRODID:icalendar-ruby
CALSCALE:GREGORIAN
BEGIN:VEVENT
DTSTAMP:20210119T012151Z
UID:1e1c517d-ab29-410a-bfbe-7b84d7293f04
DTSTART;TZID=Pacific/Auckland:20210124T120000
DTEND;TZID=Pacific/Auckland:20210124T123000
DESCRIPTION:Property ID# 499259
SUMMARY:Openhome for 102a Molyneux Avenue
END:VEVENT
END:VCALENDAR
