BEGIN:VCALENDAR
VERSION:2.0
PRODID:icalendar-ruby
CALSCALE:GREGORIAN
BEGIN:VEVENT
DTSTAMP:20210119T012149Z
UID:c321e7f8-1866-47c3-80aa-5eb166fb648b
DTSTART;TZID=Pacific/Auckland:20210124T110000
DTEND;TZID=Pacific/Auckland:20210124T113000
DESCRIPTION:Property ID# 499301
SUMMARY:Openhome for 470 Bannockburn Road
END:VEVENT
END:VCALENDAR
