BEGIN:VCALENDAR
VERSION:2.0
PRODID:icalendar-ruby
CALSCALE:GREGORIAN
BEGIN:VEVENT
DTSTAMP:20210119T012152Z
UID:deea1d35-8a15-4d7e-a647-8f872e2214f9
DTSTART;TZID=Pacific/Auckland:20210124T130000
DTEND;TZID=Pacific/Auckland:20210124T134500
DESCRIPTION:Property ID# 496993
SUMMARY:Openhome for 7 and 7A The Dunes
END:VEVENT
END:VCALENDAR
