BEGIN:VCALENDAR
VERSION:2.0
PRODID:icalendar-ruby
CALSCALE:GREGORIAN
BEGIN:VEVENT
DTSTAMP:20210119T012305Z
UID:ae42d456-6d37-4e11-93a5-a3c9cec1a690
DTSTART;TZID=Pacific/Auckland:20210124T111500
DTEND;TZID=Pacific/Auckland:20210124T114500
DESCRIPTION:Property ID# 496942
SUMMARY:Openhome for 104 Molyneux Avenue
END:VEVENT
END:VCALENDAR
