BEGIN:VCALENDAR
VERSION:2.0
PRODID:icalendar-ruby
CALSCALE:GREGORIAN
BEGIN:VEVENT
DTSTAMP:20210119T012156Z
UID:e34fae60-c809-4a24-a2d1-3167f8584fdd
DTSTART;TZID=Pacific/Auckland:20210124T121500
DTEND;TZID=Pacific/Auckland:20210124T124500
DESCRIPTION:Property ID# 498166
SUMMARY:Openhome for 33 Antrim Street
END:VEVENT
END:VCALENDAR
